BEGIN:VCALENDAR
VERSION:2.0
PRODID:-//Rede de Bibliotecas Municipais de Oeiras | Livraria Verney - ECPv6.15.17//NONSGML v1.0//EN
CALSCALE:GREGORIAN
METHOD:PUBLISH
X-ORIGINAL-URL:https://bibliotecas.oeiras.pt
X-WR-CALDESC:Eventos para Rede de Bibliotecas Municipais de Oeiras | Livraria Verney
REFRESH-INTERVAL;VALUE=DURATION:PT1H
X-Robots-Tag:noindex
X-PUBLISHED-TTL:PT1H
BEGIN:VTIMEZONE
TZID:Europe/Lisbon
BEGIN:DAYLIGHT
TZOFFSETFROM:+0000
TZOFFSETTO:+0100
TZNAME:WEST
DTSTART:20250330T010000
END:DAYLIGHT
BEGIN:STANDARD
TZOFFSETFROM:+0100
TZOFFSETTO:+0000
TZNAME:WET
DTSTART:20251026T010000
END:STANDARD
BEGIN:DAYLIGHT
TZOFFSETFROM:+0000
TZOFFSETTO:+0100
TZNAME:WEST
DTSTART:20260329T010000
END:DAYLIGHT
BEGIN:STANDARD
TZOFFSETFROM:+0100
TZOFFSETTO:+0000
TZNAME:WET
DTSTART:20261025T010000
END:STANDARD
BEGIN:DAYLIGHT
TZOFFSETFROM:+0000
TZOFFSETTO:+0100
TZNAME:WEST
DTSTART:20270328T010000
END:DAYLIGHT
BEGIN:STANDARD
TZOFFSETFROM:+0100
TZOFFSETTO:+0000
TZNAME:WET
DTSTART:20271031T010000
END:STANDARD
END:VTIMEZONE
BEGIN:VEVENT
DTSTART;TZID=Europe/Lisbon:20260309T000000
DTEND;TZID=Europe/Lisbon:20260515T000000
DTSTAMP:20260423T184104
CREATED:20260323T113035Z
LAST-MODIFIED:20260415T101500Z
UID:12529-1773014400-1778803200@bibliotecas.oeiras.pt
SUMMARY:ARCA BARCARENA | Open Call - Escrever no Escuro
DESCRIPTION:As Bibliotecas de Oeiras e a Associação Cultural A Palavra apresentam um programa cultural a implementar no novo Centro Cultural de Barcarena. A programação da ARCA integra atividades infantis\, concertos\, debates\, conversas\, performances e diversas outras iniciativas\, todas dedicadas ao cruzamento da palavra com outras disciplinas artísticas. A ARCA é um espaço de criação\, partilha e experimentação artística\, um lugar onde se guarda e se partilha cultura. Uma ARCA de Cultura. \nO concurso literário ”Escrever no Escuro” convida autores residentes em Portugal (maiores de 18 anos) a enviarem os seus contos curtos. Numa era de saturação digital e de textos gerados por algoritmos\, esta primeira edição do concurso\, promovido pela associação cultural A Palavra\, pelo Município de Oeiras e pelas Bibliotecas de Oeiras\, estabelece-se como plataforma de divulgação de trabalhos literários originais. \nPara esta edição inaugural\, no ano em que se comemora o 40.º aniversário da adesão de Portugal à União Europeia\, o concurso propõe o tema “Portugal na Europa”\, desafiando os autores a explorarem as múltiplas formas possíveis de situar Portugal no contexto europeu. \nO painel de jurados irá ter em conta a qualidade literária e a sua relação com o tema. O prémio para o vencedor é de 500€ em vale oferta e serão ainda selecionados 13 contos para serem editados numa coletânea com a chancela Cidade Nua. O evento de entrega de prémios e lançamento da coletânea acontecerá a 18 de julho no Centro Cultural de Barcarena. \nA Open Call decorre até 15 de maio e as inscrições estão disponíveis em arcabarcarena.com
URL:https://bibliotecas.oeiras.pt/agenda/arca-barcarena-open-call-escrever-no-escuro/
CATEGORIES:ARCA,Projetos Especiais
ATTACH;FMTTYPE=image/png:https://bibliotecas.oeiras.pt/wp-content/uploads/2026/03/agenda_projetosespeciais_arca_escrevernoescuro_202605.png
END:VEVENT
BEGIN:VEVENT
DTSTART;TZID=Europe/Lisbon:20260331T000000
DTEND;TZID=Europe/Lisbon:20260523T000000
DTSTAMP:20260423T184104
CREATED:20260321T143241Z
LAST-MODIFIED:20260321T144148Z
UID:12515-1774915200-1779494400@bibliotecas.oeiras.pt
SUMMARY:Exposição Coletiva MESCLA VI
DESCRIPTION:A MESCLA é um verdadeiro festival de criatividade e diversidade\, onde diferentes formas de arte se encontram e se entrelaçam. É o lugar perfeito para quem concebe a arte como expressão\, troca de ideias e experiências. O Município de Oeiras tem orgulho em apoiar este evento que aproxima pessoas\, celebra talentos variados e proporciona momentos de inspiração\, diálogo e valorização das diversas expressões culturais. \nLivraria Municipal Verney \nde segunda a sexta\, das 9h00 às 17h00\, sábado\, das 10h00 às 17h00. Encerra domingos e feriados. Patente ao público até 23 de maio. \n  \nInformações: livraria.verney@oeiras.pt | 214 408 329
URL:https://bibliotecas.oeiras.pt/agenda/exposicao-coletiva-mescla-vi/
LOCATION:Livraria Municipal Verney
CATEGORIES:Artes e Cultura,Exposições e Mostras
ATTACH;FMTTYPE=image/png:https://bibliotecas.oeiras.pt/wp-content/uploads/2026/02/agenda_mostraseexposicoes_mesclavi_2026.png
END:VEVENT
BEGIN:VEVENT
DTSTART;TZID=Europe/Lisbon:20260423T103000
DTEND;TZID=Europe/Lisbon:20260423T133000
DTSTAMP:20260423T184104
CREATED:20260323T131026Z
LAST-MODIFIED:20260323T131026Z
UID:12568-1776940200-1776951000@bibliotecas.oeiras.pt
SUMMARY:Literacia Informática para Adultos
DESCRIPTION:Sessões presenciais\, individuais ou a pares\, dinamizadas por uma técnica\, onde os participantes definem as competências informáticas a adquirir\, nomeadamente aprender a usar a aplicação PressReader para leitura de jornais e revistas online\, usar a BiblioLED para aceder a livros digitais e a audiolivros\, usar a Inteligência Artificial (como o chatGPT)\, transferir documentos do e-mail para o PC\, criar conta no zoom\, aceder às redes sociais Facebook\, Instagram\, etc. \nBiblioteca Municipal de CARNAXIDE \n7\, 16\, 23 e 30 ABR // 10h30-13h30 \nBiblioteca Municipal de ALGÉS \n8\, 22 e 29 ABR // 10h30-13h30 \nBiblioteca Municipal de OEIRAS \n10\, 17\, 24 e 30 ABR // 14h00-17h00 \n21 e 28 ABR  // 10h30-13h30 \n  \nInscrição gratuita\, participação sujeita a inscrição e vagas disponíveis. \nInformações e inscrições: Biblioteca Municipal de Carnaxide: marta.silva@oeiras.pt | 210 977 430 \n 
URL:https://bibliotecas.oeiras.pt/agenda/literacia-informatica-para-adultos-85/
LOCATION:Biblioteca Municipal de Carnaxide
CATEGORIES:Cursos e Workshops,Literacia
ATTACH;FMTTYPE=image/png:https://bibliotecas.oeiras.pt/wp-content/uploads/2025/05/4.png
END:VEVENT
BEGIN:VEVENT
DTSTART;TZID=Europe/Lisbon:20260423T173000
DTEND;TZID=Europe/Lisbon:20260423T183000
DTSTAMP:20260423T184104
CREATED:20260321T135449Z
LAST-MODIFIED:20260325T153628Z
UID:12479-1776965400-1776969000@bibliotecas.oeiras.pt
SUMMARY:Oficina do Brincar
DESCRIPTION:Nesta oficina\, convidamos crianças a mergulhar no mundo das histórias através da leitura e da escuta\, explorando diferentes formas de expressão. Com recurso a papel\, cores\, tesouras e muita imaginação\, vamos criar\, construir\, recortar\, inventar e dar vida às narrativas.\nEntre momentos de descoberta\, brincadeira e partilha\, haverá também espaço para jogos e atividades lúdicas que estimulam a criatividade\, a curiosidade e o gosto pelos livros. \nPara crianças dos 2 aos 4 anos e suas famílias. \nBiblioteca Municipal de Oeiras // 23 ABR | quinta | 17h30 \n  \nInformações e inscrições: anabela.francisco@oeiras.pt | 214 406 342
URL:https://bibliotecas.oeiras.pt/agenda/oficina-do-brincar-22/
LOCATION:Biblioteca Municipal de Oeiras
CATEGORIES:Contos,Crianças e Famílias,Oficinas
ATTACH;FMTTYPE=image/jpeg:https://bibliotecas.oeiras.pt/wp-content/uploads/2025/08/oficina-do-brincar-scaled-e1754126125273.jpg
END:VEVENT
BEGIN:VEVENT
DTSTART;TZID=Europe/Lisbon:20260423T180000
DTEND;TZID=Europe/Lisbon:20260423T200000
DTSTAMP:20260423T184104
CREATED:20260323T122908Z
LAST-MODIFIED:20260323T122908Z
UID:12544-1776967200-1776974400@bibliotecas.oeiras.pt
SUMMARY:Grupo de Leitores Barcarena
DESCRIPTION:Nesta sessão\, o Grupo de Leitores da Biblioteca de Barcarena discute o livro Suite Tóquio de Giovana Madalosso. \n  \nBiblioteca Municipal de Barcarena // 23 ABR | quinta | 18h00 \nInscrições e informações: ana.f.silva@oeiras.pt | 210 977 440
URL:https://bibliotecas.oeiras.pt/agenda/grupo-de-leitores-barcarena-7/
LOCATION:Biblioteca Municipal de Barcarena\, Rua 1 Maio\, 6\, Barcarena\, 2730-132\, Portugal
CATEGORIES:Grupo de leitores,Livros e Leituras
ATTACH;FMTTYPE=image/png:https://bibliotecas.oeiras.pt/wp-content/uploads/2026/03/agenda_glbarcarena_2026-04-23.png
END:VEVENT
BEGIN:VEVENT
DTSTART;TZID=Europe/Lisbon:20260424T140000
DTEND;TZID=Europe/Lisbon:20260424T170000
DTSTAMP:20260423T184104
CREATED:20260323T131416Z
LAST-MODIFIED:20260323T131416Z
UID:12586-1777039200-1777050000@bibliotecas.oeiras.pt
SUMMARY:Literacia Informática para Adultos
DESCRIPTION:Sessões presenciais\, individuais ou a pares\, dinamizadas por uma técnica\, onde os participantes definem as competências informáticas a adquirir\, nomeadamente aprender a usar a aplicação PressReader para leitura de jornais e revistas online\, usar a BiblioLED para aceder a livros digitais e a audiolivros\, usar a Inteligência Artificial (como o chatGPT)\, transferir documentos do e-mail para o PC\, criar conta no zoom\, aceder às redes sociais Facebook\, Instagram\, etc. \nBiblioteca Municipal de CARNAXIDE \n7\, 16\, 23 e 30 ABR // 10h30-13h30 \nBiblioteca Municipal de ALGÉS \n8\, 22 e 29 ABR // 10h30-13h30 \nBiblioteca Municipal de OEIRAS \n10\, 17\, 24 e 30 ABR // 14h00-17h00 \n21 e 28 ABR  // 10h30-13h30 \n  \nInscrição gratuita\, participação sujeita a inscrição e vagas disponíveis. \nInformações e inscrições: Biblioteca Municipal de Carnaxide: marta.silva@oeiras.pt | 210 977 430 \n 
URL:https://bibliotecas.oeiras.pt/agenda/literacia-informatica-para-adultos-94/
LOCATION:Biblioteca Municipal de Oeiras
CATEGORIES:Cursos e Workshops,Literacia
ATTACH;FMTTYPE=image/png:https://bibliotecas.oeiras.pt/wp-content/uploads/2025/05/4.png
END:VEVENT
BEGIN:VEVENT
DTSTART;TZID=Europe/Lisbon:20260424T200000
DTEND;TZID=Europe/Lisbon:20260424T200000
DTSTAMP:20260423T184104
CREATED:20260321T142718Z
LAST-MODIFIED:20260321T142718Z
UID:12506-1777060800-1777060800@bibliotecas.oeiras.pt
SUMMARY:Há Jogos no Mercado
DESCRIPTION:Todas as sextas\, das 20h00 às 01h00\, no Mercado Municipal de Oeiras\, os serões são de muita animação e diversão com jogos de tabuleiro para toda a família. \nMercado Municipal de Oeiras // 3\, 10\, 17 e 24 ABR | todas as sextas | das 20h00 à 01h00 \nMais informações: gboeiras@sapo.pt
URL:https://bibliotecas.oeiras.pt/agenda/ha-jogos-no-mercado-4/
LOCATION:Mercado de Oeiras\, Largo 5 de Outubro 3\,\, Oeiras\, 2780-182
CATEGORIES:Artes e Cultura,Outros eventos
ATTACH;FMTTYPE=image/png:https://bibliotecas.oeiras.pt/wp-content/uploads/2025/05/design-sem-nome-35-e1747144234241.png
END:VEVENT
BEGIN:VEVENT
DTSTART;TZID=Europe/Lisbon:20260427T180000
DTEND;TZID=Europe/Lisbon:20260427T200000
DTSTAMP:20260423T184104
CREATED:20260323T122527Z
LAST-MODIFIED:20260323T122536Z
UID:12541-1777312800-1777320000@bibliotecas.oeiras.pt
SUMMARY:Grupo de Leitores Carnaxide | Online
DESCRIPTION:O Ministério dos Livros é um grupo de leitores para quem gosta de partilhar ideias e opiniões sobre livros\, especialmente de géneros como o policial e o thriller\, a fantasia e até o terror. Também partilhamos sugestões de leitura e participamos em quizes. As sessões são na última segunda-feira do mês\, presencialmente na Biblioteca Municipal de Carnaxide e online no nosso canal do Discord. \nEm abril\, discutimos o livro História De Uma Serva de Margaret Atwood. \nUma visão marcante da nossa sociedade radicalmente transformada por uma revolução teocrática. “A História de Uma Serva” tornou-se um dos livros mais influentes e mais lidos do nosso tempo. \nExtremistas religiosos de direita derrubaram o governo norte-americano e queimaram a Constituição. A América é agora Gileade\, um estado policial e fundamentalista onde as mulheres férteis\, conhecidas como Servas\, são obrigadas a conceber filhos para a elite estéril. \nDefred é uma Serva na República de Gileade e acaba de ser transferida para a casa do enigmático Comandante e da sua ciumenta mulher. Pode ir uma vez por dia aos mercados\, cujas tabuletas agora são imagens\, porque as mulheres estão proibidas de ler. Tem de rezar para que o Comandante a engravide\, já que\, numa época de grande decréscimo do número de nascimentos\, o valor de Defred reside na sua fertilidade\, e o fracasso significa o exílio nas Colónias\, perigosamente poluídas. Defred lembra-se de um tempo em que vivia com o marido e a filha e tinha um emprego\, antes de perder tudo\, incluindo o nome. Essas memórias misturam-se agora com ideias perigosas de rebelião e amor. \nA partir dos 16 anos! \nBiblioteca Municipal de Carnaxide // 27 ABR | segunda | 18h00 \n  \nInformações e inscrições: ana.cruz@oeiras.pt | 210 977 340
URL:https://bibliotecas.oeiras.pt/agenda/grupo-de-leitores-carnaxide-online-6/
LOCATION:Biblioteca Municipal de Carnaxide
CATEGORIES:Grupo de leitores,Livros e Leituras
ATTACH;FMTTYPE=image/png:https://bibliotecas.oeiras.pt/wp-content/uploads/2026/03/agenda_glcarnaxideonline_2026-04-27.png
END:VEVENT
BEGIN:VEVENT
DTSTART;TZID=Europe/Lisbon:20260428T103000
DTEND;TZID=Europe/Lisbon:20260428T133000
DTSTAMP:20260423T184104
CREATED:20260323T131249Z
LAST-MODIFIED:20260323T131249Z
UID:12580-1777372200-1777383000@bibliotecas.oeiras.pt
SUMMARY:Literacia Informática para Adultos
DESCRIPTION:Sessões presenciais\, individuais ou a pares\, dinamizadas por uma técnica\, onde os participantes definem as competências informáticas a adquirir\, nomeadamente aprender a usar a aplicação PressReader para leitura de jornais e revistas online\, usar a BiblioLED para aceder a livros digitais e a audiolivros\, usar a Inteligência Artificial (como o chatGPT)\, transferir documentos do e-mail para o PC\, criar conta no zoom\, aceder às redes sociais Facebook\, Instagram\, etc. \nBiblioteca Municipal de CARNAXIDE \n7\, 16\, 23 e 30 ABR // 10h30-13h30 \nBiblioteca Municipal de ALGÉS \n8\, 22 e 29 ABR // 10h30-13h30 \nBiblioteca Municipal de OEIRAS \n10\, 17\, 24 e 30 ABR // 14h00-17h00 \n21 e 28 ABR  // 10h30-13h30 \n  \nInscrição gratuita\, participação sujeita a inscrição e vagas disponíveis. \nInformações e inscrições: Biblioteca Municipal de Carnaxide: marta.silva@oeiras.pt | 210 977 430 \n 
URL:https://bibliotecas.oeiras.pt/agenda/literacia-informatica-para-adultos-91/
LOCATION:Biblioteca Municipal de Oeiras
CATEGORIES:Cursos e Workshops,Literacia
ATTACH;FMTTYPE=image/png:https://bibliotecas.oeiras.pt/wp-content/uploads/2025/05/4.png
END:VEVENT
BEGIN:VEVENT
DTSTART;TZID=Europe/Lisbon:20260429T103000
DTEND;TZID=Europe/Lisbon:20260429T133000
DTSTAMP:20260423T184104
CREATED:20260323T131209Z
LAST-MODIFIED:20260323T131209Z
UID:12576-1777458600-1777469400@bibliotecas.oeiras.pt
SUMMARY:Literacia Informática para Adultos
DESCRIPTION:Sessões presenciais\, individuais ou a pares\, dinamizadas por uma técnica\, onde os participantes definem as competências informáticas a adquirir\, nomeadamente aprender a usar a aplicação PressReader para leitura de jornais e revistas online\, usar a BiblioLED para aceder a livros digitais e a audiolivros\, usar a Inteligência Artificial (como o chatGPT)\, transferir documentos do e-mail para o PC\, criar conta no zoom\, aceder às redes sociais Facebook\, Instagram\, etc. \nBiblioteca Municipal de CARNAXIDE \n7\, 16\, 23 e 30 ABR // 10h30-13h30 \nBiblioteca Municipal de ALGÉS \n8\, 22 e 29 ABR // 10h30-13h30 \nBiblioteca Municipal de OEIRAS \n10\, 17\, 24 e 30 ABR // 14h00-17h00 \n21 e 28 ABR  // 10h30-13h30 \n  \nInscrição gratuita\, participação sujeita a inscrição e vagas disponíveis. \nInformações e inscrições: Biblioteca Municipal de Carnaxide: marta.silva@oeiras.pt | 210 977 430 \n 
URL:https://bibliotecas.oeiras.pt/agenda/literacia-informatica-para-adultos-89/
LOCATION:Biblioteca Municipal de Algés
CATEGORIES:Cursos e Workshops,Literacia
ATTACH;FMTTYPE=image/png:https://bibliotecas.oeiras.pt/wp-content/uploads/2025/05/4.png
END:VEVENT
BEGIN:VEVENT
DTSTART;TZID=Europe/Lisbon:20260429T213000
DTEND;TZID=Europe/Lisbon:20260429T213000
DTSTAMP:20260423T184104
CREATED:20260325T100729Z
LAST-MODIFIED:20260325T122957Z
UID:12608-1777498200-1777498200@bibliotecas.oeiras.pt
SUMMARY:Mostra de Artes da Palavra Oeiras | Café dos Poetas
DESCRIPTION:“A Poesia de Nova Iorque”\n\nNova Iorque não é apenas uma cidade\, é um estado de espírito e um campo de batalha literário. Dos arranha-céus de Walt Whitman à crueza de “Poeta em Nova Iorque” de Federico García Lorca\, a “Big Apple” serviu de musa a vozes que transformaram a palavra em algo urbano\, urgente e universal. \nNesta 40.ª edição\, atravessamos o Atlântico para explorar a cartografia poética da metrópole que nunca dorme. Entre o caos e a sofisticação\, revisitamos os autores que capturaram a energia elétrica desta cidade\, num diálogo constante entre a tradição e a vanguarda. \nUma noite de partilha e descoberta com as convidadas Raquel Nobre Guerra\, Margarida Vale de Gato e Emília Gomes da Costa (Associação Luchapa)\, sob a moderação de Nuno Miguel Guedes. A atmosfera musical desta viagem transatlântica será criada por Nuno Faria. \nTemplo da Poesia – Parque dos Poetas\, Oeiras // 29 ABR | quarta | 21h30 \n  \nEntrada gratuita (mediante inscrição prévia). \nInformações e inscrições: mapoeiras.com
URL:https://bibliotecas.oeiras.pt/agenda/mostra-de-artes-da-palavra-oeiras-cafe-dos-poetas-3/
LOCATION:Templo da Poesia – Parque dos Poetas
CATEGORIES:Mostra de artes da palavra,Projetos Especiais
ATTACH;FMTTYPE=image/png:https://bibliotecas.oeiras.pt/wp-content/uploads/2026/03/agenda_map_cafe-dos-poetas_20260429.png
END:VEVENT
BEGIN:VEVENT
DTSTART;TZID=Europe/Lisbon:20260430T103000
DTEND;TZID=Europe/Lisbon:20260430T133000
DTSTAMP:20260423T184104
CREATED:20260323T131050Z
LAST-MODIFIED:20260323T131050Z
UID:12570-1777545000-1777555800@bibliotecas.oeiras.pt
SUMMARY:Literacia Informática para Adultos
DESCRIPTION:Sessões presenciais\, individuais ou a pares\, dinamizadas por uma técnica\, onde os participantes definem as competências informáticas a adquirir\, nomeadamente aprender a usar a aplicação PressReader para leitura de jornais e revistas online\, usar a BiblioLED para aceder a livros digitais e a audiolivros\, usar a Inteligência Artificial (como o chatGPT)\, transferir documentos do e-mail para o PC\, criar conta no zoom\, aceder às redes sociais Facebook\, Instagram\, etc. \nBiblioteca Municipal de CARNAXIDE \n7\, 16\, 23 e 30 ABR // 10h30-13h30 \nBiblioteca Municipal de ALGÉS \n8\, 22 e 29 ABR // 10h30-13h30 \nBiblioteca Municipal de OEIRAS \n10\, 17\, 24 e 30 ABR // 14h00-17h00 \n21 e 28 ABR  // 10h30-13h30 \n  \nInscrição gratuita\, participação sujeita a inscrição e vagas disponíveis. \nInformações e inscrições: Biblioteca Municipal de Carnaxide: marta.silva@oeiras.pt | 210 977 430 \n 
URL:https://bibliotecas.oeiras.pt/agenda/literacia-informatica-para-adultos-86/
LOCATION:Biblioteca Municipal de Carnaxide
CATEGORIES:Cursos e Workshops,Literacia
ATTACH;FMTTYPE=image/png:https://bibliotecas.oeiras.pt/wp-content/uploads/2025/05/4.png
END:VEVENT
BEGIN:VEVENT
DTSTART;TZID=Europe/Lisbon:20260430T140000
DTEND;TZID=Europe/Lisbon:20260430T170000
DTSTAMP:20260423T184104
CREATED:20260323T131454Z
LAST-MODIFIED:20260323T131454Z
UID:12588-1777557600-1777568400@bibliotecas.oeiras.pt
SUMMARY:Literacia Informática para Adultos
DESCRIPTION:Sessões presenciais\, individuais ou a pares\, dinamizadas por uma técnica\, onde os participantes definem as competências informáticas a adquirir\, nomeadamente aprender a usar a aplicação PressReader para leitura de jornais e revistas online\, usar a BiblioLED para aceder a livros digitais e a audiolivros\, usar a Inteligência Artificial (como o chatGPT)\, transferir documentos do e-mail para o PC\, criar conta no zoom\, aceder às redes sociais Facebook\, Instagram\, etc. \nBiblioteca Municipal de CARNAXIDE \n7\, 16\, 23 e 30 ABR // 10h30-13h30 \nBiblioteca Municipal de ALGÉS \n8\, 22 e 29 ABR // 10h30-13h30 \nBiblioteca Municipal de OEIRAS \n10\, 17\, 24 e 30 ABR // 14h00-17h00 \n21 e 28 ABR  // 10h30-13h30 \n  \nInscrição gratuita\, participação sujeita a inscrição e vagas disponíveis. \nInformações e inscrições: Biblioteca Municipal de Carnaxide: marta.silva@oeiras.pt | 210 977 430 \n 
URL:https://bibliotecas.oeiras.pt/agenda/literacia-informatica-para-adultos-95/
LOCATION:Biblioteca Municipal de Oeiras
CATEGORIES:Cursos e Workshops,Literacia
ATTACH;FMTTYPE=image/png:https://bibliotecas.oeiras.pt/wp-content/uploads/2025/05/4.png
END:VEVENT
BEGIN:VEVENT
DTSTART;TZID=Europe/Lisbon:20260430T213000
DTEND;TZID=Europe/Lisbon:20260430T213000
DTSTAMP:20260423T184104
CREATED:20260325T120755Z
LAST-MODIFIED:20260325T121253Z
UID:12632-1777584600-1777584600@bibliotecas.oeiras.pt
SUMMARY:Lançamento da novela gráfica “Um Quadrado de Céu”
DESCRIPTION:Lançamento da novela gráfica Um Quadrado de Céu com Susana Moreira Marques (autora) e Joana Afonso – (ilustradora) e moderação de José Mário Silva. \nA novela gráfica Um Quadrado de Céu da chancela Os livros de Oeiras\, resgata as memórias de pessoas que lutaram contra a ditadura e que foram presas por isso. Um livro onde se regressa aos muros de Caxias\, uma das principais prisões políticas do Estado Novo\, para interrogar o modo como olhamos para um passado violento de repressão\, e repensar a nossa — sempre frágil — liberdade. Para não esquecer. \nSusana Moreira Marques é autora de quatro livros de narrativa de não-ficção e de um livro para a infância. Um Quadrado de Céu é a sua primeira novela gráfica. \nJoana Afonso desenhou projetos como o “Baile”\, reconhecido com o prémio de Melhor Álbum do Amadora BD 2013\, “Zahna”\, “Bestiário de Isa”\, “A Mais Breve História da Rússia em BD”\, “Living Will”\, “Auto da Barca do Inferno”\, entre outros. Conta também com colaborações em produtoras\, tendo participado em trabalhos de direção de arte\, em projetos como “A Cada Dia que Passa” e “O Natal de Bruno Aleixo”. \nTemplo da Poesia // 30 ABR | quinta | 21h30 \n  \nInformações: luisa.santos@oeiras.pt
URL:https://bibliotecas.oeiras.pt/agenda/lancamento-da-novela-grafica-um-quadrado-de-ceu/
LOCATION:Templo da Poesia – Parque dos Poetas
CATEGORIES:Apresentação de livros,Livros e Leituras
ATTACH;FMTTYPE=image/png:https://bibliotecas.oeiras.pt/wp-content/uploads/2026/03/agenda_apreslivros_umquadradodeceu20260430.png
END:VEVENT
END:VCALENDAR